BEGIN:VCALENDAR
PRODID:-//Pixl8//Eventfolio//EN
VERSION:2.0
X-WR-TIMEZONE:America/New_York
CALSCALE:GREGORIAN
METHOD:PUBLISH
CLASS:PUBLIC
BEGIN:VTIMEZONE
TZID:America/New_York
LAST-MODIFIED:20260306T231828Z
TZURL:https://www.tzurl.org/zoneinfo-outlook/America/New_York
X-LIC-LOCATION:America/New_York
BEGIN:DAYLIGHT
TZNAME:EDT
TZOFFSETFROM:-0500
TZOFFSETTO:-0400
DTSTART:19700308T020000
RRULE:FREQ=YEARLY;BYMONTH=3;BYDAY=2SU
END:DAYLIGHT
BEGIN:STANDARD
TZNAME:EST
TZOFFSETFROM:-0400
TZOFFSETTO:-0500
DTSTART:19701101T020000
RRULE:FREQ=YEARLY;BYMONTH=11;BYDAY=1SU
END:STANDARD
END:VTIMEZONE
BEGIN:VEVENT
DTSTART;TZID=America/New_York:20261117T080000
DTEND;TZID=America/New_York:20261118T160000
DTSTAMP:20260422T225003Z
UID:{9BD9B87C-88F2-4D8F-941FFA1D79893498}
LOCATION:Baltimore\, MD
SUMMARY:Combination Products Summit 2026
DESCRIPTION:Driving Engagement and Exploring Innovation for Combination Products\n
 \n
 Event details: https://www.raps.org/learn-develop/events/combination-products-summit-2026.html
PRIORITY:1
END:VEVENT
END:VCALENDAR